BEGIN:VCALENDAR
VERSION:2.0
PRODID:icalendar-ruby
CALSCALE:GREGORIAN
METHOD:PUBLISH
BEGIN:VEVENT
DTSTAMP:20260422T203608Z
UID:60-1053349@stmarksmidlo.com
DTSTART:20260711T200000Z
DTEND:20260711T220000Z
CLASS:PUBLIC
CREATED:20260415T122043
DESCRIPTION:All young-ish adults are invited to gather at Pastor Rachel's h
 ouse for a time to hangout\, chat\, and have fun. Kids are always welcome.
  Please contact Pastor Rachel for more information and to RSVP.
LAST-MODIFIED:20260415T122043
LOCATION:
SUMMARY:Young-ish Adult Gathering
URL;VALUE=URI:https://www.stmarksmidlo.com/events/young-ish-adult-gathering
 --60/2026-07-11
ATTACH;FILENAME=garden.jpg;FMTTYPE=image/jpeg:https://dq5pwpg1q8ru0.cloudfr
 ont.net/2026/04/15/16/20/43/fb2ee0e4-7cf5-4749-b99c-23e4de094049/garden.jp
 g
END:VEVENT
END:VCALENDAR
