BEGIN:VCALENDAR
VERSION:2.0
PRODID:icalendar-ruby
CALSCALE:GREGORIAN
METHOD:PUBLISH
BEGIN:VEVENT
DTSTAMP:20260422T203557Z
UID:65-1053354@stmarksmidlo.com
DTSTART:20260727T220000Z
DTEND:20260731T000000Z
CLASS:PUBLIC
CREATED:20260415T123421
DESCRIPTION:Every day is a "Holy-Day!" Vacation Bible School is set to be a
  fun filled week focusing on a different holiday each evening. There will 
 be music\, crafts\, rec time\, snacks\, Bible time\, and more! We will end
  the week with a family night on Friday with food trucks and fun. Please e
 mail Katie West if you would like more information.
LAST-MODIFIED:20260415T123421
LOCATION:
SUMMARY:VBS
URL;VALUE=URI:https://www.stmarksmidlo.com/events/vbs/2026-07-27
ATTACH;FILENAME=VBS.jpg;FMTTYPE=image/jpeg:https://dq5pwpg1q8ru0.cloudfront
 .net/2026/04/15/16/34/20/969c5a21-0c08-4b1a-a7ad-d82794da1c91/VBS.jpg
END:VEVENT
END:VCALENDAR
