BEGIN:VCALENDAR
VERSION:2.0
PRODID:icalendar-ruby
CALSCALE:GREGORIAN
METHOD:PUBLISH
BEGIN:VEVENT
DTSTAMP:20260422T203624Z
UID:59-1053348@stmarksmidlo.com
DTSTART:20260621T113000Z
DTEND:20260621T123000Z
CLASS:PUBLIC
CREATED:20260415T121758
DESCRIPTION:All men are invited to the United Methodist Men's monthly break
 fast. We will have a delicious breakfast\, guest speaker\, and a time of f
 ellowship and prayer. If you would like more information\, please contact 
 Tim Seitz.
LAST-MODIFIED:20260415T121758
LOCATION:
SUMMARY:UMM Breakfast
URL;VALUE=URI:https://www.stmarksmidlo.com/events/umm-breakfast--59/2026-06
 -21
ATTACH;FILENAME=breakfast.jpg;FMTTYPE=image/jpeg:https://dq5pwpg1q8ru0.clou
 dfront.net/2026/04/15/16/17/58/4add2afc-6efd-428a-b5db-a8af5ee64b35/breakf
 ast.jpg
END:VEVENT
END:VCALENDAR
