BEGIN:VCALENDAR
VERSION:2.0
PRODID:icalendar-ruby
CALSCALE:GREGORIAN
METHOD:PUBLISH
BEGIN:VEVENT
DTSTAMP:20260422T203624Z
UID:64-1053353@stmarksmidlo.com
DTSTART:20260701T213000Z
DTEND:20260701T233000Z
CLASS:PUBLIC
CREATED:20260415T123057
DESCRIPTION:Do you ever feel like you need a quiet place to pray and reconn
 ect with God? Are you looking for somewhere to take time to reflect on wha
 t God may be saying to you? Do you just need time to talk to God? If so\, 
 please come to Personal Prayer Time from 5:30pm-7:30pm on the first Tuesda
 y of each month. This will not be led by anyone except you. Come when you 
 can\, and stay as long as you need. 
LAST-MODIFIED:20260415T123057
LOCATION:
SUMMARY:Personal Prayer Time
URL;VALUE=URI:https://www.stmarksmidlo.com/events/personal-prayer-time--64/
 2026-07-01
ATTACH;FILENAME=prayer-hands.jpg;FMTTYPE=image/jpeg:https://dq5pwpg1q8ru0.c
 loudfront.net/2026/04/15/16/30/56/e9617f9b-be88-4f50-bf18-fbe9415e62cf/pra
 yer-hands.jpg
END:VEVENT
END:VCALENDAR
