BEGIN:VCALENDAR
VERSION:2.0
PRODID:icalendar-ruby
CALSCALE:GREGORIAN
METHOD:PUBLISH
BEGIN:VEVENT
DTSTAMP:20260422T191042Z
UID:55-1053344@stmarksmidlo.com
DTSTART:20260524T200000Z
DTEND:20260524T210000Z
CLASS:PUBLIC
CREATED:20260415T120336
DESCRIPTION:We have two different Handbell groups that have been providing 
 us with beautiful music throughout the year. Now it is time for them to co
 me together and show off! Join us at 4pm in the Sanctuary to hear them for
  yourself!
LAST-MODIFIED:20260415T120336
LOCATION:
SUMMARY:Handbell Extravaganza
URL;VALUE=URI:https://www.stmarksmidlo.com/events/handbell-extravaganza/202
 6-05-24
ATTACH;FILENAME=Handbells.jpg;FMTTYPE=image/jpeg:https://dq5pwpg1q8ru0.clou
 dfront.net/2026/04/15/16/03/35/ce644075-f6b5-4563-afad-c3b0df0e5e33/Handbe
 lls.jpg
END:VEVENT
END:VCALENDAR
