BEGIN:VCALENDAR
VERSION:2.0
PRODID:icalendar-ruby
CALSCALE:GREGORIAN
METHOD:PUBLISH
BEGIN:VEVENT
DTSTAMP:20260422T202946Z
UID:67-1053356@stmarksmidlo.com
DTSTART:20260823T130000Z
DTEND:20260823T150000Z
CLASS:PUBLIC
CREATED:20260415T123734
DESCRIPTION:It's time to kickoff our fall programs! Bring your backpacks (o
 r workbags) and receive a blessing for a successful year from Pastor Justi
 n. We will bless backpacks at both our 9am and 11am services. If you have 
 any questions\, please contact the front office.
LAST-MODIFIED:20260415T123734
LOCATION:
SUMMARY:Fall Kickoff and Backpack Blessing
URL;VALUE=URI:https://www.stmarksmidlo.com/events/fall-kickoff-and-backpack
 -blessing/2026-08-23
ATTACH;FILENAME=backpacks.jpg;FMTTYPE=image/jpeg:https://dq5pwpg1q8ru0.clou
 dfront.net/2026/04/15/16/37/33/f1b1830a-76bc-46cb-8671-d00338fcd3c0/backpa
 cks.jpg
END:VEVENT
END:VCALENDAR
